BEGIN:VCALENDAR
METHOD:PUBLISH
PRODID:-//Weblication CMS
VERSION:2.0
BEGIN:VEVENT
SUMMARY:Bürgersprechstunde Integration
DTSTART:20220120T100000
DTEND:20220120T120000
DESCRIPTION:Bürgersprechstunde Integration für Großglattbach 
LOCATION:Großglattbach
UID:https://www.integration-muehlacker.de/integration-de/veranstaltungen/termine/2593443698.php
URL:https://www.integration-muehlacker.de/integration-de/veranstaltungen/termine/2593443698.php
END:VEVENT
END:VCALENDAR